BEGIN:VCALENDAR
VERSION:2.0
PRODID:City of West Hollywood Calendar Creator
METHOD:PUBLISH
BEGIN:VEVENT
DTSTAMP:20260423T132652
DTSTART:20260514T080000
DTEND:20260514T110000
SUMMARY:Bike to Work Day
DESCRIPTION:<p></p><p style="text-align: center;"></p><p>To celebrate Bike to Work Week, the City of West Hollywood will host a pop-up on Thursday, May 14, 2026, from 8 a.m. to 11 a.m., in collaboration with the West Hollywood Bicycle Coalition and Lime. The event will take place at 8300 Santa Monica Boulevard, in the City Hall Courtyard. Bike parking will be available at 1085 N. Sweetzer. The community is invited to attend to learn more about various cycling options available, such as Lime’s e-bike share program, bike subscription opportunities, and ways to get connected with the local WeHo cycling community. The event will include a made-to-order coffee cart, food, and giveaways, such as free LED safety lights and bike helmets, while supplies last.</p><p>Bike Tune-ups will be available at the event. Pre-registration to receive a tune-up is strongly encouraged. <a href="https://forms.cloud.microsoft/g/UiRDDaVchg">Click Here to register.</a></p><p>Just a Pit Stop: Light refreshments will be available at the corner of Santa Monica Boulevard and Sweetzer Avenue for cyclists who are commuting.&nbsp;</p><p>&nbsp;For more information, please contact GoWeHo TMO at&nbsp;<a href="mailto:&#103;&#111;&#119;&#101;&#104;&#111;&#64;&#119;&#101;&#104;&#111;&#46;&#111;&#114;&#103;">goweho@weho.org</a>.</p><p>&nbsp;</p>
X-ALT-DESC;FMTTYPE=text/html:<p></p><p style="text-align: center;"></p><p>To celebrate Bike to Work Week, the City of West Hollywood will host a pop-up on Thursday, May 14, 2026, from 8 a.m. to 11 a.m., in collaboration with the West Hollywood Bicycle Coalition and Lime. The event will take place at 8300 Santa Monica Boulevard, in the City Hall Courtyard. Bike parking will be available at 1085 N. Sweetzer. The community is invited to attend to learn more about various cycling options available, such as Lime’s e-bike share program, bike subscription opportunities, and ways to get connected with the local WeHo cycling community. The event will include a made-to-order coffee cart, food, and giveaways, such as free LED safety lights and bike helmets, while supplies last.</p><p>Bike Tune-ups will be available at the event. Pre-registration to receive a tune-up is strongly encouraged. <a href="https://forms.cloud.microsoft/g/UiRDDaVchg">Click Here to register.</a></p><p>Just a Pit Stop: Light refreshments will be available at the corner of Santa Monica Boulevard and Sweetzer Avenue for cyclists who are commuting.&nbsp;</p><p>&nbsp;For more information, please contact GoWeHo TMO at&nbsp;<a href="mailto:&#103;&#111;&#119;&#101;&#104;&#111;&#64;&#119;&#101;&#104;&#111;&#46;&#111;&#114;&#103;">goweho@weho.org</a>.</p><p>&nbsp;</p>
LOCATION:City Hall Automated Parking Structure\, 1085 N Sweetzer Avenue West Hollywood\, California 90069
CLASS:PUBLIC
END:VEVENT
END:VCALENDAR
