BEGIN:VCALENDAR
VERSION:2.0
PRODID:City of West Hollywood Calendar Creator
METHOD:PUBLISH
BEGIN:VEVENT
DTSTAMP:20260414T112834
DTSTART:20260425T120000
DTEND:20260425T210000
SUMMARY:Mazer Lesbian Archives Short Film Festival (Co-Sponsored by City of West Hollywood)
DESCRIPTION:<p data-olk-copy-source="MessageBody">Celebrate Lesbian and Queer Women Visibility Week with a special Short Film Festival co-sponsored by the City of West Hollywood and hosted by the June L. Mazer Lesbian Archives. This event features a slate of 26 short films celebrating LGBTQ women, including new works from emerging directors alongside archival films from Paula Goldberg, Betsy Kalin, Marjorie Kaye, Jenni Olsen, Abigail Severance, and Rosser Goodman.</p><p>Based in West Hollywood, the Mazer Lesbian Archives is a vital force in collecting, preserving, and uplifting lesbian, feminist, and queer women’s history. Rosser Goodman, who programmed archival shorts for the Film Fatale screening series and networking event for women-centric films from 1997 through the early 2000s, contributes to this curated lineup.</p><p>Tickets range from $10 to $25, with a minimal processing fee. Tickets may be purchased for a specific time block or for the full duration of the event at:&nbsp;<a href="https://gcc02.safelinks.protection.outlook.com/?url=https%3A%2F%2Fwww.mazerlesbianarchives.org%2Fmazer-events%2F2026%2F4%2F25%2Fmazer-lesbian-archives-short-film-festival&amp;data=05%7C02%7CSaSmith%40weho.org%7Cdb9d92f78f0b45aa2b9f08de99c37f69%7C0432d4aa7c0a41beaa40f696e053e546%7C0%7C0%7C639117262086697840%7CUnknown%7CTWFpbGZsb3d8eyJFbXB0eU1hcGkiOnRydWUsIlYiOiIwLjAuMDAwMCIsIlAiOiJXaW4zMiIsIkFOIjoiTWFpbCIsIldUIjoyfQ%3D%3D%7C0%7C%7C%7C&amp;sdata=S%2BeQ0LVQIBkSun9Wr%2FCwGGf1%2Bs1E%2By4xvZId0VXil%2FM%3D&amp;reserved=0" target="_blank" rel="noopener noreferrer" data-auth="NotApplicable" originalsrc="https://www.mazerlesbianarchives.org/mazer-events/2026/4/25/mazer-lesbian-archives-short-film-festival" data-linkindex="0" title="Original URL: https://www.mazerlesbianarchives.org/mazer-events/2026/4/25/mazer-lesbian-archives-short-film-festival. Click or tap if you trust this link." data-ogsc="">https://www.mazerlesbianarchives.org/mazer-events/2026/4/25/mazer-lesbian-archives-short-film-festival</a>.</p><p>Refreshments will be served, and no one will be turned away due to lack of funds.</p>
X-ALT-DESC;FMTTYPE=text/html:<p data-olk-copy-source="MessageBody">Celebrate Lesbian and Queer Women Visibility Week with a special Short Film Festival co-sponsored by the City of West Hollywood and hosted by the June L. Mazer Lesbian Archives. This event features a slate of 26 short films celebrating LGBTQ women, including new works from emerging directors alongside archival films from Paula Goldberg, Betsy Kalin, Marjorie Kaye, Jenni Olsen, Abigail Severance, and Rosser Goodman.</p><p>Based in West Hollywood, the Mazer Lesbian Archives is a vital force in collecting, preserving, and uplifting lesbian, feminist, and queer women’s history. Rosser Goodman, who programmed archival shorts for the Film Fatale screening series and networking event for women-centric films from 1997 through the early 2000s, contributes to this curated lineup.</p><p>Tickets range from $10 to $25, with a minimal processing fee. Tickets may be purchased for a specific time block or for the full duration of the event at:&nbsp;<a href="https://gcc02.safelinks.protection.outlook.com/?url=https%3A%2F%2Fwww.mazerlesbianarchives.org%2Fmazer-events%2F2026%2F4%2F25%2Fmazer-lesbian-archives-short-film-festival&amp;data=05%7C02%7CSaSmith%40weho.org%7Cdb9d92f78f0b45aa2b9f08de99c37f69%7C0432d4aa7c0a41beaa40f696e053e546%7C0%7C0%7C639117262086697840%7CUnknown%7CTWFpbGZsb3d8eyJFbXB0eU1hcGkiOnRydWUsIlYiOiIwLjAuMDAwMCIsIlAiOiJXaW4zMiIsIkFOIjoiTWFpbCIsIldUIjoyfQ%3D%3D%7C0%7C%7C%7C&amp;sdata=S%2BeQ0LVQIBkSun9Wr%2FCwGGf1%2Bs1E%2By4xvZId0VXil%2FM%3D&amp;reserved=0" target="_blank" rel="noopener noreferrer" data-auth="NotApplicable" originalsrc="https://www.mazerlesbianarchives.org/mazer-events/2026/4/25/mazer-lesbian-archives-short-film-festival" data-linkindex="0" title="Original URL: https://www.mazerlesbianarchives.org/mazer-events/2026/4/25/mazer-lesbian-archives-short-film-festival. Click or tap if you trust this link." data-ogsc="">https://www.mazerlesbianarchives.org/mazer-events/2026/4/25/mazer-lesbian-archives-short-film-festival</a>.</p><p>Refreshments will be served, and no one will be turned away due to lack of funds.</p>
LOCATION:Pacific Design Center\, Silver Screen Theatre\, 8687 Melrose Ave W\, California 90069
CLASS:PUBLIC
END:VEVENT
END:VCALENDAR
