BEGIN:VCALENDAR
VERSION:2.0
PRODID:City of West Hollywood Calendar Creator
METHOD:PUBLISH
BEGIN:VEVENT
DTSTAMP:20260407T092140
DTSTART:20260425T130000
DTEND:20260425T170000
SUMMARY:Bridging Through Colors
DESCRIPTION:<p><b>The event is co-sponsored by the City of West Hollywood:</b>&nbsp;&nbsp;<strong>Bridging Through Colors</strong>&nbsp;is an inclusive exhibition concept that uses color as a universal language to bring people together across cultures, generations, and lived experiences. The project is designed to support West Hollywood’s diverse community — especially immigrant and multicultural audiences — by creating a welcoming civic-space program where residents can connect through visual storytelling, shared values, and creative expression.</p><p>Our goal is to activate a public venue with a professionally curated international exhibition, supported by accessible programming such as an opening reception, guided viewing hours, artist talks, and family-friendly engagement opportunities. We are collaborating with our long-time nonprofit partner,&nbsp;<strong>Speaking Creation Inc.,</strong>&nbsp;as fiscal sponsor, strengthening the project’s community outreach and public benefit.</p><p>The exhibition will run from&nbsp;<b>April 23rd to May 17<sup>th</sup>,&nbsp;</b>Thursday - Sunday, 1 PM - 5 PM during the exhibition.</p><p><b>Open Hours: Thursday - Sunday 1 PM - 5 PM&nbsp;</b></p><p>Art exhibit</p><p><b>SHOW YOUR COLORS&nbsp;</b>and feel better at any age!</p><p>Will be on display:</p><p>April 25 - May 17, open&nbsp;9 AM - 9 PM</p><p>At Plummer Park Community Center</p><p>Questions and&nbsp;requests at: (747) 666-5785</p><p><b>RSVP:&nbsp;No</b></p><p><b>COST: Free</b></p><p><b>CONTACT: (323) 840-4373 | (323) 791-6757<br></b><b>Email:&nbsp;<a href="mailto:vividartstudio.ylev@gmail.com" data-linkindex="2" title="mailto:&#118;&#105;&#118;&#105;&#100;&#97;&#114;&#116;&#115;&#116;&#117;&#100;&#105;&#111;&#46;&#121;&#108;&#101;&#118;&#64;&#103;&#109;&#97;&#105;&#108;&#46;&#99;&#111;&#109;">vividartstudio.ylev@gmail.com</a>&nbsp;|&nbsp;<a href="mailto:larkgallery@yahoo.com" data-linkindex="3" title="mailto:&#108;&#97;&#114;&#107;&#103;&#97;&#108;&#108;&#101;&#114;&#121;&#64;&#121;&#97;&#104;&#111;&#111;&#46;&#99;&#111;&#109;">larkgallery@yahoo.com</a><br>Website:&nbsp;<a href="https://gcc02.safelinks.protection.outlook.com/?url=http%3A%2F%2Fwww.larkgallery.com%2F&amp;data=05%7C02%7CDBaram%40weho.org%7C5e16165cee404805fffb08de94be9d0f%7C0432d4aa7c0a41beaa40f696e053e546%7C0%7C0%7C639111743569867884%7CUnknown%7CTWFpbGZsb3d8eyJFbXB0eU1hcGkiOnRydWUsIlYiOiIwLjAuMDAwMCIsIlAiOiJXaW4zMiIsIkFOIjoiTWFpbCIsIldUIjoyfQ%3D%3D%7C0%7C%7C%7C&amp;sdata=2awps0Bh3Qe%2Fyh4dtVmGIwxvyiugbg1bGyGU5hqVpIw%3D&amp;reserved=0" target="_blank" rel="noopener noreferrer" data-auth="NotApplicable" originalsrc="http://www.larkgallery.com/" data-linkindex="4" title="Original URL: http://www.larkgallery.com/. Click or tap if you trust this link.">www.larkgallery.com</a></b>&nbsp;</p>
X-ALT-DESC;FMTTYPE=text/html:<p><b>The event is co-sponsored by the City of West Hollywood:</b>&nbsp;&nbsp;<strong>Bridging Through Colors</strong>&nbsp;is an inclusive exhibition concept that uses color as a universal language to bring people together across cultures, generations, and lived experiences. The project is designed to support West Hollywood’s diverse community — especially immigrant and multicultural audiences — by creating a welcoming civic-space program where residents can connect through visual storytelling, shared values, and creative expression.</p><p>Our goal is to activate a public venue with a professionally curated international exhibition, supported by accessible programming such as an opening reception, guided viewing hours, artist talks, and family-friendly engagement opportunities. We are collaborating with our long-time nonprofit partner,&nbsp;<strong>Speaking Creation Inc.,</strong>&nbsp;as fiscal sponsor, strengthening the project’s community outreach and public benefit.</p><p>The exhibition will run from&nbsp;<b>April 23rd to May 17<sup>th</sup>,&nbsp;</b>Thursday - Sunday, 1 PM - 5 PM during the exhibition.</p><p><b>Open Hours: Thursday - Sunday 1 PM - 5 PM&nbsp;</b></p><p>Art exhibit</p><p><b>SHOW YOUR COLORS&nbsp;</b>and feel better at any age!</p><p>Will be on display:</p><p>April 25 - May 17, open&nbsp;9 AM - 9 PM</p><p>At Plummer Park Community Center</p><p>Questions and&nbsp;requests at: (747) 666-5785</p><p><b>RSVP:&nbsp;No</b></p><p><b>COST: Free</b></p><p><b>CONTACT: (323) 840-4373 | (323) 791-6757<br></b><b>Email:&nbsp;<a href="mailto:vividartstudio.ylev@gmail.com" data-linkindex="2" title="mailto:&#118;&#105;&#118;&#105;&#100;&#97;&#114;&#116;&#115;&#116;&#117;&#100;&#105;&#111;&#46;&#121;&#108;&#101;&#118;&#64;&#103;&#109;&#97;&#105;&#108;&#46;&#99;&#111;&#109;">vividartstudio.ylev@gmail.com</a>&nbsp;|&nbsp;<a href="mailto:larkgallery@yahoo.com" data-linkindex="3" title="mailto:&#108;&#97;&#114;&#107;&#103;&#97;&#108;&#108;&#101;&#114;&#121;&#64;&#121;&#97;&#104;&#111;&#111;&#46;&#99;&#111;&#109;">larkgallery@yahoo.com</a><br>Website:&nbsp;<a href="https://gcc02.safelinks.protection.outlook.com/?url=http%3A%2F%2Fwww.larkgallery.com%2F&amp;data=05%7C02%7CDBaram%40weho.org%7C5e16165cee404805fffb08de94be9d0f%7C0432d4aa7c0a41beaa40f696e053e546%7C0%7C0%7C639111743569867884%7CUnknown%7CTWFpbGZsb3d8eyJFbXB0eU1hcGkiOnRydWUsIlYiOiIwLjAuMDAwMCIsIlAiOiJXaW4zMiIsIkFOIjoiTWFpbCIsIldUIjoyfQ%3D%3D%7C0%7C%7C%7C&amp;sdata=2awps0Bh3Qe%2Fyh4dtVmGIwxvyiugbg1bGyGU5hqVpIw%3D&amp;reserved=0" target="_blank" rel="noopener noreferrer" data-auth="NotApplicable" originalsrc="http://www.larkgallery.com/" data-linkindex="4" title="Original URL: http://www.larkgallery.com/. Click or tap if you trust this link.">www.larkgallery.com</a></b>&nbsp;</p>
LOCATION:Long Hall / Great Hall\, Plummer Park\, 7377 Santa Monica Blvd West Hollywood\, California 90046
CLASS:PUBLIC
END:VEVENT
END:VCALENDAR
