BEGIN:VCALENDAR
VERSION:2.0
PRODID:City of West Hollywood Calendar Creator
METHOD:PUBLISH
BEGIN:VEVENT
DTSTAMP:20260326T164157
DTSTART:20260425T103000
DTEND:20260425T133000
SUMMARY:Life Lines: An Autobiographical Poetry Writing Workshop
DESCRIPTION:Life Lines: An Autobiographical Poetry Writing Workshop<br><br>Free, RSVP required<br><br>Reality is more interesting than fiction.&nbsp; In this writing workshop you will generate new poems based on your life experiences.&nbsp;<br><br>This one-day workshop will be focused on autobiographical writing taught by inaugural West Hollywood City Poet Laureate Steven Reigns. Please bring a pen/paper or a laptop.&nbsp;<br><br>RSVP and More Information: <a href="https://www.weho.org/community/arts-and-culture/literary-arts/poetry-month#!/" target="_blank" rel="noopener">https://www.weho.org/community/arts-and-culture/literary-arts/poetry-month#!/</a><br><br>Staff Contact: Mike Che, <a href="mailto:mche@weho.org?subject=mche@weho.org" id="mche@weho.org" title="mche@weho.org">mche@weho.org</a>
X-ALT-DESC;FMTTYPE=text/html:Life Lines: An Autobiographical Poetry Writing Workshop<br><br>Free, RSVP required<br><br>Reality is more interesting than fiction.&nbsp; In this writing workshop you will generate new poems based on your life experiences.&nbsp;<br><br>This one-day workshop will be focused on autobiographical writing taught by inaugural West Hollywood City Poet Laureate Steven Reigns. Please bring a pen/paper or a laptop.&nbsp;<br><br>RSVP and More Information: <a href="https://www.weho.org/community/arts-and-culture/literary-arts/poetry-month#!/" target="_blank" rel="noopener">https://www.weho.org/community/arts-and-culture/literary-arts/poetry-month#!/</a><br><br>Staff Contact: Mike Che, <a href="mailto:mche@weho.org?subject=mche@weho.org" id="mche@weho.org" title="mche@weho.org">mche@weho.org</a>
LOCATION:West Hollywood Library Community Meeting Room\, 625 N. San Vicente Boulevard West Hollywood\, California 90069
CLASS:PUBLIC
END:VEVENT
END:VCALENDAR
