BEGIN:VCALENDAR
VERSION:2.0
PRODID:City of West Hollywood Calendar Creator
METHOD:PUBLISH
BEGIN:VEVENT
DTSTAMP:20260325T141023
DTSTART:20260407T170000
DTEND:20260407T183000
SUMMARY:Prepare and Connect – Climate Resilience Preparedness Virtual Community Workshop
DESCRIPTION:<p>To complement the newly released <a href="https://gcc02.safelinks.protection.outlook.com/?url=http%3A%2F%2Fgo.weho.org%2FClimateResilienceToolkit&amp;data=05%7C02%7Cdgillig%40weho.org%7C50a6a522693548ed052308de8aa7f236%7C0432d4aa7c0a41beaa40f696e053e546%7C0%7C0%7C639100651096598762%7CUnknown%7CTWFpbGZsb3d8eyJFbXB0eU1hcGkiOnRydWUsIlYiOiIwLjAuMDAwMCIsIlAiOiJXaW4zMiIsIkFOIjoiTWFpbCIsIldUIjoyfQ%3D%3D%7C0%7C%7C%7C&amp;sdata=NVWfq9y08Q%2B3zrB2XolnA4gJ13BvVZTrSk3xZ7%2FTof8%3D&amp;reserved=0">WeHo Climate Resilience Toolkit</a>, the City of West Hollywood invites community members to attend a virtual&nbsp;interactive workshop focused on community&nbsp;resilience and emergency preparedness on&nbsp;Tuesday, April 7th from 5:00 pm - 6:30 pm. Join us and connect with others to build a more resilient community! This is a great opportunity for anyone looking for a fun and interactive way to be prepared for emergencies with fellow community members. </p><p>The first five participants to register and attend will win a three-day Emergency Fanny Pack Survival Kit. The workshop is free&nbsp;and open to the public.&nbsp;</p><p>Register&nbsp;at:<a href="https://us02web.zoom.us/meeting/register/q8Zb_djzR-KsvCAd2B_EjA" target="_blank">https://us02web.zoom.us/meeting/register/q8Zb_djzR-KsvCAd2B_EjA</a></p><p>&nbsp;</p><p><strong>For additional information:</strong></p><p>Community Development Department<br>Long Range Planning Division<br>323-848-6475</p>
X-ALT-DESC;FMTTYPE=text/html:<p>To complement the newly released <a href="https://gcc02.safelinks.protection.outlook.com/?url=http%3A%2F%2Fgo.weho.org%2FClimateResilienceToolkit&amp;data=05%7C02%7Cdgillig%40weho.org%7C50a6a522693548ed052308de8aa7f236%7C0432d4aa7c0a41beaa40f696e053e546%7C0%7C0%7C639100651096598762%7CUnknown%7CTWFpbGZsb3d8eyJFbXB0eU1hcGkiOnRydWUsIlYiOiIwLjAuMDAwMCIsIlAiOiJXaW4zMiIsIkFOIjoiTWFpbCIsIldUIjoyfQ%3D%3D%7C0%7C%7C%7C&amp;sdata=NVWfq9y08Q%2B3zrB2XolnA4gJ13BvVZTrSk3xZ7%2FTof8%3D&amp;reserved=0">WeHo Climate Resilience Toolkit</a>, the City of West Hollywood invites community members to attend a virtual&nbsp;interactive workshop focused on community&nbsp;resilience and emergency preparedness on&nbsp;Tuesday, April 7th from 5:00 pm - 6:30 pm. Join us and connect with others to build a more resilient community! This is a great opportunity for anyone looking for a fun and interactive way to be prepared for emergencies with fellow community members. </p><p>The first five participants to register and attend will win a three-day Emergency Fanny Pack Survival Kit. The workshop is free&nbsp;and open to the public.&nbsp;</p><p>Register&nbsp;at:<a href="https://us02web.zoom.us/meeting/register/q8Zb_djzR-KsvCAd2B_EjA" target="_blank">https://us02web.zoom.us/meeting/register/q8Zb_djzR-KsvCAd2B_EjA</a></p><p>&nbsp;</p><p><strong>For additional information:</strong></p><p>Community Development Department<br>Long Range Planning Division<br>323-848-6475</p>
LOCATION:Virtual Community Workshop\, West Hollywood\, California 
CLASS:PUBLIC
END:VEVENT
END:VCALENDAR
