BEGIN:VCALENDAR
VERSION:2.0
PRODID:City of West Hollywood Calendar Creator
METHOD:PUBLISH
BEGIN:VEVENT
DTSTAMP:20260325T141006
DTSTART:20260423T170000
DTEND:20260423T180000
SUMMARY:Climate and Sustainability Solutions Virtual Community Workshop
DESCRIPTION:<p>The City of West Hollywood invites community members to attend a virtual&nbsp;interactive workshop focused on practical climate solutions on&nbsp;Thursday, April 23rd from 5:00pm – 6:00pm. Most climate conversations stop at the problem - this one starts with the solutions. Join us and connect with others concerned about climate change and explore solutions together. This workshop provides an overview of climate solutions and helps you find actions you can take to help!&nbsp;&nbsp;</p><p>Participants&nbsp;will be&nbsp;eligible to win a small indoor smart garden system. The workshop is free&nbsp;and open to the public.&nbsp;Register at: <a href="https://us02web.zoom.us/meeting/register/Y0kYF-nnSdmBY-GV6xdVcA">https://us02web.zoom.us/meeting/register/Y0kYF-nnSdmBY-GV6xdVcA</a></p><p>&nbsp;</p><p><strong>For additional information:</strong></p><p>Community Development Department<br>Long Range Planning Division<br>323-848-6475</p>
X-ALT-DESC;FMTTYPE=text/html:<p>The City of West Hollywood invites community members to attend a virtual&nbsp;interactive workshop focused on practical climate solutions on&nbsp;Thursday, April 23rd from 5:00pm – 6:00pm. Most climate conversations stop at the problem - this one starts with the solutions. Join us and connect with others concerned about climate change and explore solutions together. This workshop provides an overview of climate solutions and helps you find actions you can take to help!&nbsp;&nbsp;</p><p>Participants&nbsp;will be&nbsp;eligible to win a small indoor smart garden system. The workshop is free&nbsp;and open to the public.&nbsp;Register at: <a href="https://us02web.zoom.us/meeting/register/Y0kYF-nnSdmBY-GV6xdVcA">https://us02web.zoom.us/meeting/register/Y0kYF-nnSdmBY-GV6xdVcA</a></p><p>&nbsp;</p><p><strong>For additional information:</strong></p><p>Community Development Department<br>Long Range Planning Division<br>323-848-6475</p>
LOCATION:Virtual Community Workshop\, West Hollywood\, California 
CLASS:PUBLIC
END:VEVENT
END:VCALENDAR
