BEGIN:VCALENDAR
VERSION:2.0
PRODID:City of West Hollywood Calendar Creator
METHOD:PUBLISH
BEGIN:VEVENT
DTSTAMP:20260422T132008
DTSTART:20260507T100000
DTEND:20260507T130000
SUMMARY:Older Adults Month Community Health Fair and Art Showcase
DESCRIPTION:<p>The City of West Hollywood and its Older Adults Advisory Board, in partnership with Cedars-Sinai, will host the </p><p>21st Annual<br>Older Adults Month Community Health &amp; Art Showcase</p><p style="text-align: left;">+ Art Showcase<br>+ Health screenings: blood pressure, glucose, and cholesterol<br>+ Wellness demos &amp; local resources<br>+ Giveaways &amp; complimentary lunch (while supplies last)</p><p style="text-align: left;"><strong>RSVP is not required (admission is free) |&nbsp;Free parking at Plummer Park</strong></p><p style="text-align: left;"><strong>&nbsp;</strong>For questions, contact the&nbsp;Human Services Division&nbsp;at&nbsp;323-848-6510.</p>
X-ALT-DESC;FMTTYPE=text/html:<p>The City of West Hollywood and its Older Adults Advisory Board, in partnership with Cedars-Sinai, will host the </p><p>21st Annual<br>Older Adults Month Community Health &amp; Art Showcase</p><p style="text-align: left;">+ Art Showcase<br>+ Health screenings: blood pressure, glucose, and cholesterol<br>+ Wellness demos &amp; local resources<br>+ Giveaways &amp; complimentary lunch (while supplies last)</p><p style="text-align: left;"><strong>RSVP is not required (admission is free) |&nbsp;Free parking at Plummer Park</strong></p><p style="text-align: left;"><strong>&nbsp;</strong>For questions, contact the&nbsp;Human Services Division&nbsp;at&nbsp;323-848-6510.</p>
LOCATION:Plummer Park Community Center\, 7377 Santa Monica Boulevard West Hollywood\, California 90046
CLASS:PUBLIC
END:VEVENT
END:VCALENDAR
