BEGIN:VCALENDAR
VERSION:2.0
PRODID:City of West Hollywood Calendar Creator
METHOD:PUBLISH
BEGIN:VEVENT
DTSTAMP:20260319T110001
DTSTART:20260414T170000
DTEND:20260414T190000
SUMMARY:Plummer Park's Community Open House
DESCRIPTION:<p>Join us for the completion of initial engagement efforts and come see the inspiring ideas generated by the community for the Plummer Park Comprehensive Improvement Plan! </p><p>Please join us on Tuesday, April 14th, from 5-7 pm for a Community Open House at Great Hall within Plummer Park. At this community Open House, you will have the opportunity to review a summary of the results of the first phase of engagement along with an updated Plummer Park Needs Assessment and how these will inform the next phase of the Comprehensive Improvement Plan. Exhibits and displays will highlight findings from the community-driven planning process. Enjoy free food and refreshments, giveaways, and fun games and activities. Come by, bring your friends, family, and neighbors, and share as we look to the future of Plummer Park.</p><p>To learn more about the Plummer Park Comprehensive Improvement Plan, please visit our website at <a href="http://go.weho.org/plummerparkplan" target="_blank" rel="noopener">go.weho.org/plummerparkplan</a>.</p>
X-ALT-DESC;FMTTYPE=text/html:<p>Join us for the completion of initial engagement efforts and come see the inspiring ideas generated by the community for the Plummer Park Comprehensive Improvement Plan! </p><p>Please join us on Tuesday, April 14th, from 5-7 pm for a Community Open House at Great Hall within Plummer Park. At this community Open House, you will have the opportunity to review a summary of the results of the first phase of engagement along with an updated Plummer Park Needs Assessment and how these will inform the next phase of the Comprehensive Improvement Plan. Exhibits and displays will highlight findings from the community-driven planning process. Enjoy free food and refreshments, giveaways, and fun games and activities. Come by, bring your friends, family, and neighbors, and share as we look to the future of Plummer Park.</p><p>To learn more about the Plummer Park Comprehensive Improvement Plan, please visit our website at <a href="http://go.weho.org/plummerparkplan" target="_blank" rel="noopener">go.weho.org/plummerparkplan</a>.</p>
LOCATION:Plummer Park Great Hall / Long Hall\, 7377 Santa Monica Boulevard West Hollywood\, California 90046
CLASS:PUBLIC
END:VEVENT
END:VCALENDAR
