BEGIN:VCALENDAR
VERSION:2.0
PRODID:City of West Hollywood Calendar Creator
METHOD:PUBLISH
BEGIN:VEVENT
DTSTAMP:20260317T104609
DTSTART:20260418T110000
DTEND:20260418T150000
SUMMARY:Aqua Spring Fest
DESCRIPTION:Come join us at our 4th annual Aqua Spring Festival at the West Hollywood Aquatic Center – Coastal Country Themed! Dressed as your best beach cowboy or girl, partake in our wild cardboard boat race, be on the hunt for our golden eggs throughout the event, crash on our shore of crafts, and more!
X-ALT-DESC;FMTTYPE=text/html:Come join us at our 4th annual Aqua Spring Festival at the West Hollywood Aquatic Center – Coastal Country Themed! Dressed as your best beach cowboy or girl, partake in our wild cardboard boat race, be on the hunt for our golden eggs throughout the event, crash on our shore of crafts, and more!
LOCATION:West Hollywood Aquatic and Recreation Center\, 8750 El Tovar Place. West Hollywood\, California 90069
CLASS:PUBLIC
END:VEVENT
END:VCALENDAR
