BEGIN:VCALENDAR
VERSION:2.0
PRODID:City of West Hollywood Calendar Creator
METHOD:PUBLISH
BEGIN:VEVENT
DTSTAMP:20260312T124115
DTSTART:20260430T183000
DTEND:20260430T213000
SUMMARY:AMMO Theatre presents The AMMO-nymous Plays
DESCRIPTION:Ammunition Theatre Company is proud to announce its brand-new community reading series, AMMO-nymous Plays: WeHo. This interactive West Hollywood event invites you to mingle with community and experience a spontaneous night of theatre as AMMO company members cold-read a never-before-heard play by a local playwright from an underrepresented community. The catch? No one knows what play will be read until it's pulled from a hat in front of the audience, keeping the night playful, unpredictable, and alive.<br><br>Get a front-row seat to the raw magic of new play development with AMMO-nymous Plays: WeHo! Part theatre, part salon, part shared ritual. Join us for a night of culture, creativity, spontaneity, and nourishment. Check ammunitiontheatre.com for the six plays that will be inside the hat for possible readings at the three separate community evenings at Fiesta Cantina in West Hollywood on Thursdays April 30, May 14, and May 28.&nbsp;<br><br>AMMO-nymous Plays: WeHo is supported in part by an arts grant from the City of West Hollywood.<br><br>This presentation is FREE! For more information, and to RSVP: <a href="https://www.eventbrite.com/e/ammo-nymous-plays-weho-tickets-1985032222814" target="_blank" rel="noopener">https://www.eventbrite.com/e/ammo-nymous-plays-weho-tickets-1985032222814</a><br><br>Staff: Eva Angeloff, <a href="mailto:eangeloff@weho.org?subject=eangeloff@weho.org" id="eangeloff@weho.org" title="eangeloff@weho.org">eangeloff@weho.org</a>, 323-848-6354
X-ALT-DESC;FMTTYPE=text/html:Ammunition Theatre Company is proud to announce its brand-new community reading series, AMMO-nymous Plays: WeHo. This interactive West Hollywood event invites you to mingle with community and experience a spontaneous night of theatre as AMMO company members cold-read a never-before-heard play by a local playwright from an underrepresented community. The catch? No one knows what play will be read until it's pulled from a hat in front of the audience, keeping the night playful, unpredictable, and alive.<br><br>Get a front-row seat to the raw magic of new play development with AMMO-nymous Plays: WeHo! Part theatre, part salon, part shared ritual. Join us for a night of culture, creativity, spontaneity, and nourishment. Check ammunitiontheatre.com for the six plays that will be inside the hat for possible readings at the three separate community evenings at Fiesta Cantina in West Hollywood on Thursdays April 30, May 14, and May 28.&nbsp;<br><br>AMMO-nymous Plays: WeHo is supported in part by an arts grant from the City of West Hollywood.<br><br>This presentation is FREE! For more information, and to RSVP: <a href="https://www.eventbrite.com/e/ammo-nymous-plays-weho-tickets-1985032222814" target="_blank" rel="noopener">https://www.eventbrite.com/e/ammo-nymous-plays-weho-tickets-1985032222814</a><br><br>Staff: Eva Angeloff, <a href="mailto:eangeloff@weho.org?subject=eangeloff@weho.org" id="eangeloff@weho.org" title="eangeloff@weho.org">eangeloff@weho.org</a>, 323-848-6354
LOCATION:Fiesta Cantina\, 8865 Santa Monica Blvd. West Hollywood\, California 90069
CLASS:PUBLIC
END:VEVENT
END:VCALENDAR
