BEGIN:VCALENDAR
VERSION:2.0
PRODID:City of West Hollywood Calendar Creator
METHOD:PUBLISH
BEGIN:VEVENT
DTSTAMP:20260309T180307
DTSTART:20260430T170000
DTEND:20260430T190000
SUMMARY:City Council Finance & Budget Subcommittee Meeting
DESCRIPTION:<p>To view the current agenda, please visit:&nbsp;<a aria-label="Link Council Agendas" id="menuron" href="http://www.weho.org/councilagendas" rel="noreferrer noopener" target="_blank" ___1q1shib="" f2hkw1w="" f3rmtva="" f1ewtqcl="" fyind8e="" f1k6fduh="" f1w7gpdv="" fk6fouc="" fjoy568="" figsok6="" f1s184ao="" f1mk8lai="" fnbmjn9="" f1o700av="" f13mvf36="" f1cmlufx="" f9n3di6="" f1ids18y="" f1tx3yz7="" f1deo86v="" f1eh06m1="" f1iescvh="" fhgqx19="" f1olyrje="" f1p93eir="" f1nev41a="" f1h8hb77="" f1lqvz6u="" f10aw75t="" fsle3fq="" f17ae5zn"="" title="http://www.weho.org/councilagendas">Council Agendas</a>&nbsp;(scroll down to the "Finance &amp; Budget Subcommittee dropdown).</p><p>The Finance &amp; Budget Subcommittee, comprising the Mayor and Vice Mayor, currently reviews the City budget before its adoption by the full Council. Additionally, this subcommittee may provide direction on matters relating to capital improvements, homelessness, public safety, and other budget topics that span multiple years.&nbsp; This is a standing subcommittee that is subject to the agenda and open meeting requirements of the Brown Act. The public is invited to attend and provide feedback and input on topics related to the budget.&nbsp;</p><p>For questions, please email&nbsp;<a aria-label="Link Budget@weho.org" id="menurop" href="mailto:Budget@weho.org" rel="noreferrer noopener" target="_blank" ___1q1shib="" f2hkw1w="" f3rmtva="" f1ewtqcl="" fyind8e="" f1k6fduh="" f1w7gpdv="" fk6fouc="" fjoy568="" figsok6="" f1s184ao="" f1mk8lai="" fnbmjn9="" f1o700av="" f13mvf36="" f1cmlufx="" f9n3di6="" f1ids18y="" f1tx3yz7="" f1deo86v="" f1eh06m1="" f1iescvh="" fhgqx19="" f1olyrje="" f1p93eir="" f1nev41a="" f1h8hb77="" f1lqvz6u="" f10aw75t="" fsle3fq="" f17ae5zn"="" title="mailto:&#98;&#117;&#100;&#103;&#101;&#116;&#64;&#119;&#101;&#104;&#111;&#46;&#111;&#114;&#103;">Budget@weho.org</a>&nbsp;or call 323-848-6466.</p>
X-ALT-DESC;FMTTYPE=text/html:<p>To view the current agenda, please visit:&nbsp;<a aria-label="Link Council Agendas" id="menuron" href="http://www.weho.org/councilagendas" rel="noreferrer noopener" target="_blank" ___1q1shib="" f2hkw1w="" f3rmtva="" f1ewtqcl="" fyind8e="" f1k6fduh="" f1w7gpdv="" fk6fouc="" fjoy568="" figsok6="" f1s184ao="" f1mk8lai="" fnbmjn9="" f1o700av="" f13mvf36="" f1cmlufx="" f9n3di6="" f1ids18y="" f1tx3yz7="" f1deo86v="" f1eh06m1="" f1iescvh="" fhgqx19="" f1olyrje="" f1p93eir="" f1nev41a="" f1h8hb77="" f1lqvz6u="" f10aw75t="" fsle3fq="" f17ae5zn"="" title="http://www.weho.org/councilagendas">Council Agendas</a>&nbsp;(scroll down to the "Finance &amp; Budget Subcommittee dropdown).</p><p>The Finance &amp; Budget Subcommittee, comprising the Mayor and Vice Mayor, currently reviews the City budget before its adoption by the full Council. Additionally, this subcommittee may provide direction on matters relating to capital improvements, homelessness, public safety, and other budget topics that span multiple years.&nbsp; This is a standing subcommittee that is subject to the agenda and open meeting requirements of the Brown Act. The public is invited to attend and provide feedback and input on topics related to the budget.&nbsp;</p><p>For questions, please email&nbsp;<a aria-label="Link Budget@weho.org" id="menurop" href="mailto:Budget@weho.org" rel="noreferrer noopener" target="_blank" ___1q1shib="" f2hkw1w="" f3rmtva="" f1ewtqcl="" fyind8e="" f1k6fduh="" f1w7gpdv="" fk6fouc="" fjoy568="" figsok6="" f1s184ao="" f1mk8lai="" fnbmjn9="" f1o700av="" f13mvf36="" f1cmlufx="" f9n3di6="" f1ids18y="" f1tx3yz7="" f1deo86v="" f1eh06m1="" f1iescvh="" fhgqx19="" f1olyrje="" f1p93eir="" f1nev41a="" f1h8hb77="" f1lqvz6u="" f10aw75t="" fsle3fq="" f17ae5zn"="" title="mailto:&#98;&#117;&#100;&#103;&#101;&#116;&#64;&#119;&#101;&#104;&#111;&#46;&#111;&#114;&#103;">Budget@weho.org</a>&nbsp;or call 323-848-6466.</p>
LOCATION:City Hall Community Meeting Room\, 1st Floor\, 8300 Santa Monica Boulevard West Hollywood\, California 90069
CLASS:PUBLIC
END:VEVENT
END:VCALENDAR
