BEGIN:VCALENDAR
VERSION:2.0
PRODID:City of West Hollywood Calendar Creator
METHOD:PUBLISH
BEGIN:VEVENT
DTSTAMP:20260309T175840
DTSTART:20260403T100000
DTEND:20260403T150000
SUMMARY:UCLA Health Blood Drive
DESCRIPTION:<p>The City of West Hollywood will host a community blood drive in partnership with UCLA Health, a nationally recognized leader in healthcare and medical innovation. Since opening in 1975, the UCLA Blood &amp; Platelet Center has served as a vital part of the region’s healthcare delivery system, collecting, processing, and distributing blood products for Ronald Reagan UCLA Medical Center, UCLA Mattel Children’s Hospital, and Santa Monica UCLA Hospital.</p><p >The community blood drive will take place on Friday, April 3, 2026, from 10 a.m. to 3 p.m. in the Doheny Room at the West Hollywood Aquatic &amp; Recreation Center, located at 8750 El Tovar Place. Advance registration is strongly encouraged. Community members may reserve an appointment by visiting <a href="http://" target="_blank" rel="noopener">https://www.ucedonor.com/mobile/index.cfm?group=op&amp;expand=15442&amp;zc=90069.</a></p><div></div>
X-ALT-DESC;FMTTYPE=text/html:<p>The City of West Hollywood will host a community blood drive in partnership with UCLA Health, a nationally recognized leader in healthcare and medical innovation. Since opening in 1975, the UCLA Blood &amp; Platelet Center has served as a vital part of the region’s healthcare delivery system, collecting, processing, and distributing blood products for Ronald Reagan UCLA Medical Center, UCLA Mattel Children’s Hospital, and Santa Monica UCLA Hospital.</p><p >The community blood drive will take place on Friday, April 3, 2026, from 10 a.m. to 3 p.m. in the Doheny Room at the West Hollywood Aquatic &amp; Recreation Center, located at 8750 El Tovar Place. Advance registration is strongly encouraged. Community members may reserve an appointment by visiting <a href="http://" target="_blank" rel="noopener">https://www.ucedonor.com/mobile/index.cfm?group=op&amp;expand=15442&amp;zc=90069.</a></p><div></div>
LOCATION:West Hollywood Aquatic and Recreation Center\, 8750 El Tovar Place. West Hollywood\, California 90069
CLASS:PUBLIC
END:VEVENT
END:VCALENDAR
