BEGIN:VCALENDAR
VERSION:2.0
PRODID:City of West Hollywood Calendar Creator
METHOD:PUBLISH
BEGIN:VEVENT
DTSTAMP:20260305T124138
DTSTART:20260412T110000
DTEND:20260412T170000
SUMMARY:Food Day In WeHo
DESCRIPTION:<p>On Sunday, April 12, 2026, join Plant Based Treaty LA and the City of West Hollywood for ‘Food Day in WeHo’, a free, all-ages community event celebrating sustainable food, climate action, and plant-based living. Join us for sustainability-focused speakers and panels, a food court with samples, interactive activities for kids, and eco-friendly products — all taking place at Plummer Park as part of LA Climate Week.</p><p data-start="83" data-end="105">This event features:</p><p data-start="107" data-end="198">🎤&nbsp;Thought-provoking speakers and panels&nbsp;focused on sustainability and climate action<br>🥗&nbsp;A sustainability-focused food court&nbsp;offering samples<br>🎨&nbsp;Interactive activities for kids and families<br>🌱&nbsp;Vendors offering eco-friendly and plant-based products</p><p data-start="107" data-end="198">&nbsp;While an RSVP is not required, those who do RSVP will receive a raffle ticket for prizes at the event. All RSVPs are free. Learn more about the event, or RSVP here:&nbsp;<a href="https://socalvegfest.org/food-day-in-weho/" target="_blank" rel="noopener">https://socalvegfest.org/food-day-in-weho/</a></p><p data-start="107" data-end="198">Extremely limited parking will be available on site. We <em>highly </em>recommend taking public transit or non-car transportation. Parking at West Hollywood Park, then taking the Metro 4 Bus in an Eastern direction on Santa Monica Boulevard towards Plummer Park is a 19 min bus ride away.</p><p data-start="107" data-end="198"><em>This event is Co-Sponsored by the City of West Hollywood.&nbsp;</em></p>
X-ALT-DESC;FMTTYPE=text/html:<p>On Sunday, April 12, 2026, join Plant Based Treaty LA and the City of West Hollywood for ‘Food Day in WeHo’, a free, all-ages community event celebrating sustainable food, climate action, and plant-based living. Join us for sustainability-focused speakers and panels, a food court with samples, interactive activities for kids, and eco-friendly products — all taking place at Plummer Park as part of LA Climate Week.</p><p data-start="83" data-end="105">This event features:</p><p data-start="107" data-end="198">🎤&nbsp;Thought-provoking speakers and panels&nbsp;focused on sustainability and climate action<br>🥗&nbsp;A sustainability-focused food court&nbsp;offering samples<br>🎨&nbsp;Interactive activities for kids and families<br>🌱&nbsp;Vendors offering eco-friendly and plant-based products</p><p data-start="107" data-end="198">&nbsp;While an RSVP is not required, those who do RSVP will receive a raffle ticket for prizes at the event. All RSVPs are free. Learn more about the event, or RSVP here:&nbsp;<a href="https://socalvegfest.org/food-day-in-weho/" target="_blank" rel="noopener">https://socalvegfest.org/food-day-in-weho/</a></p><p data-start="107" data-end="198">Extremely limited parking will be available on site. We <em>highly </em>recommend taking public transit or non-car transportation. Parking at West Hollywood Park, then taking the Metro 4 Bus in an Eastern direction on Santa Monica Boulevard towards Plummer Park is a 19 min bus ride away.</p><p data-start="107" data-end="198"><em>This event is Co-Sponsored by the City of West Hollywood.&nbsp;</em></p>
LOCATION:Plummer Park\, 7377 Santa Monica Blvd West Hollywood\, California 90046
CLASS:PUBLIC
END:VEVENT
END:VCALENDAR
