BEGIN:VCALENDAR
VERSION:2.0
PRODID:City of West Hollywood Calendar Creator
METHOD:PUBLISH
BEGIN:VEVENT
DTSTAMP:20260407T173042
DTSTART:20260411T100000
DTEND:20260411T130000
SUMMARY:(Cancelled) Plummer Parking Lot Sale
DESCRIPTION:<p>*CANCELLED DUE TO INCLIMENT WEATHER*</p><p>Junk in the Trunk is now the Plummer Parking Lot Sale!</p><p>This vibrant community event features a diverse array of sellers, offering unique finds and great deals. With its lively atmosphere and engaging offers, the West Hollywood Plummer Parking Lot Sale is a must attend event for all members of the community!</p><p>Join the Recreation Services Division as we host a rummage sale! For sellers, it is highly encouraged to register as early as possible as spots sell out quickly! Registration is $15 each, which includes two assigned parking spots.</p>
X-ALT-DESC;FMTTYPE=text/html:<p>*CANCELLED DUE TO INCLIMENT WEATHER*</p><p>Junk in the Trunk is now the Plummer Parking Lot Sale!</p><p>This vibrant community event features a diverse array of sellers, offering unique finds and great deals. With its lively atmosphere and engaging offers, the West Hollywood Plummer Parking Lot Sale is a must attend event for all members of the community!</p><p>Join the Recreation Services Division as we host a rummage sale! For sellers, it is highly encouraged to register as early as possible as spots sell out quickly! Registration is $15 each, which includes two assigned parking spots.</p>
LOCATION:
CLASS:PUBLIC
END:VEVENT
END:VCALENDAR
