BEGIN:VCALENDAR
VERSION:2.0
PRODID:City of West Hollywood Calendar Creator
METHOD:PUBLISH
BEGIN:VEVENT
DTSTAMP:20260227T163000
DTSTART:20260425T170000
DTEND:20260425T210000
SUMMARY:Movies in the Park: Smurfs (2025)
DESCRIPTION:<p>Join Papa Smurf, Smurfette, and all your favorite blue friends in a brand-new magical adventure filled with laughter, friendship, and smurf-tastic fun. When a mysterious force threatens their enchanted forest, the Smurfs team up in a heartwarming journey. Rated PG</p><p>Day: Saturday, April 25</p><p>Time: Movie starts at dusk | Activities start at 5:00 pm</p><p>Location: Plummer Park, Vista Lawn</p><p>Ages: All</p><p>Fee: Free</p>
X-ALT-DESC;FMTTYPE=text/html:<p>Join Papa Smurf, Smurfette, and all your favorite blue friends in a brand-new magical adventure filled with laughter, friendship, and smurf-tastic fun. When a mysterious force threatens their enchanted forest, the Smurfs team up in a heartwarming journey. Rated PG</p><p>Day: Saturday, April 25</p><p>Time: Movie starts at dusk | Activities start at 5:00 pm</p><p>Location: Plummer Park, Vista Lawn</p><p>Ages: All</p><p>Fee: Free</p>
LOCATION:Plummer Park\, 7377 Santa Monica Boulevard West Hollywood\, California 90046
CLASS:PUBLIC
END:VEVENT
END:VCALENDAR
