BEGIN:VCALENDAR
VERSION:2.0
PRODID:City of West Hollywood Calendar Creator
METHOD:PUBLISH
BEGIN:VEVENT
DTSTAMP:20260217T091859
DTSTART:20260421T190000
DTEND:20260421T210000
SUMMARY:Russian-speaking Advisory Board Meeting
DESCRIPTION:<p>The Russian-speaking Advisory Board provides information on issues relating to the planning, development, and coordination of services to the Russian-speaking Community and makes recommendations to Council relative to the adoption of programs, policies or ordinances of benefit to the constituency.</p><p><i>The current agenda for the Russian-speaking Advisory Board meeting can be</i>&nbsp;<i>found <a href="https://weho.prod-as.govaccess.org/city-government/boards-commissions/advisory-boards/russian-speaking-advisory-board">here</a>.</i></p><p>TO PARTICIPATE BY PROVIDING PUBLIC COMMENT BY TELEPHONE:</p><p>(Please note: This option is to provide public comment via phone ONLY.) 1. You are required to register to speak via Zoom by emailing&nbsp;<a href="mailto:rabpubliccomment@weho.org" data-linkindex="0" title="mailto:&#114;&#97;&#98;&#112;&#117;&#98;&#108;&#105;&#99;&#99;&#111;&#109;&#109;&#101;&#110;&#116;&#64;&#119;&#101;&#104;&#111;&#46;&#111;&#114;&#103;">rabpubliccomment@weho.org</a>&nbsp;no later than 12:00 p.m. on the Russian-speaking Advisory Board’s meeting day, to be added<b>&nbsp;</b>to the<b>&nbsp;</b>Zoom Public Speaker List for the meeting. Please include your name, the phone number from which you will be calling, and which item(s) you would like to speak on. 2. Dial-in 10 minutes prior to the start of the meeting (the meeting begins at 7:00 p.m.). The Zoom link to the meeting will be sent to you upon receipt of the email or a phone call.</p><p><b>Contact</b>: For more information, please contact&nbsp;Tatyana Rodzinek,&nbsp;<a href="mailto:&#116;&#114;&#111;&#100;&#122;&#105;&#110;&#101;&#107;&#64;&#119;&#101;&#104;&#111;&#46;&#111;&#114;&#103;">trodzinek@weho.org</a>&nbsp;or call (323) 848‐6826</p>
X-ALT-DESC;FMTTYPE=text/html:<p>The Russian-speaking Advisory Board provides information on issues relating to the planning, development, and coordination of services to the Russian-speaking Community and makes recommendations to Council relative to the adoption of programs, policies or ordinances of benefit to the constituency.</p><p><i>The current agenda for the Russian-speaking Advisory Board meeting can be</i>&nbsp;<i>found <a href="https://weho.prod-as.govaccess.org/city-government/boards-commissions/advisory-boards/russian-speaking-advisory-board">here</a>.</i></p><p>TO PARTICIPATE BY PROVIDING PUBLIC COMMENT BY TELEPHONE:</p><p>(Please note: This option is to provide public comment via phone ONLY.) 1. You are required to register to speak via Zoom by emailing&nbsp;<a href="mailto:rabpubliccomment@weho.org" data-linkindex="0" title="mailto:&#114;&#97;&#98;&#112;&#117;&#98;&#108;&#105;&#99;&#99;&#111;&#109;&#109;&#101;&#110;&#116;&#64;&#119;&#101;&#104;&#111;&#46;&#111;&#114;&#103;">rabpubliccomment@weho.org</a>&nbsp;no later than 12:00 p.m. on the Russian-speaking Advisory Board’s meeting day, to be added<b>&nbsp;</b>to the<b>&nbsp;</b>Zoom Public Speaker List for the meeting. Please include your name, the phone number from which you will be calling, and which item(s) you would like to speak on. 2. Dial-in 10 minutes prior to the start of the meeting (the meeting begins at 7:00 p.m.). The Zoom link to the meeting will be sent to you upon receipt of the email or a phone call.</p><p><b>Contact</b>: For more information, please contact&nbsp;Tatyana Rodzinek,&nbsp;<a href="mailto:&#116;&#114;&#111;&#100;&#122;&#105;&#110;&#101;&#107;&#64;&#119;&#101;&#104;&#111;&#46;&#111;&#114;&#103;">trodzinek@weho.org</a>&nbsp;or call (323) 848‐6826</p>
LOCATION:City Hall Community Meeting Room\, 1st Floor\, 8300 Santa Monica Boulevard West Hollywood\, California 90069
CLASS:PUBLIC
END:VEVENT
END:VCALENDAR
