BEGIN:VCALENDAR
VERSION:2.0
PRODID:City of West Hollywood Calendar Creator
METHOD:PUBLISH
BEGIN:VEVENT
DTSTAMP:20260113T115436
DTSTART:20260521T083000
DTEND:20260521T093000
SUMMARY:City Council Subcommittee on Homelessness Meeting
DESCRIPTION:
X-ALT-DESC;FMTTYPE=text/html:
LOCATION:City Hall Community Meeting Room\, 1st Floor\, 8300 Santa Monica Boulevard West Hollywood\, California 90069
CLASS:PUBLIC
END:VEVENT
END:VCALENDAR
