BEGIN:VCALENDAR
VERSION:2.0
PRODID:City of West Hollywood Calendar Creator
METHOD:PUBLISH
BEGIN:VEVENT
DTSTAMP:20251224T164800
DTSTART:20260401T180000
DTEND:20260401T200000
SUMMARY:Transgender Advisory Board Meeting
DESCRIPTION:<strong></strong><p>The Transgender Advisory Board was created on October 19, 2009 and is comprised of five (5) members appointed by individual Councilmembers and four (4) members appointed by the Council as a whole (at-large).&nbsp;The Transgender Advisory Board addresses matters relating to advocacy on behalf of transgender rights such as education, community awareness, and empowerment and makes recommendations to Council relative to the adoption of programs, policies or ordinances of benefit to the constituency. All Board meetings are open to the public.&nbsp;</p><p><em>The current agenda for the Transgender Advisory Board meeting can be&nbsp;</em><a href="http://www.weho.org/city-government/boards-commissions/advisory-boards/transgender-advisory-board#!/" target="_blank">found here.</a></p>
X-ALT-DESC;FMTTYPE=text/html:<strong></strong><p>The Transgender Advisory Board was created on October 19, 2009 and is comprised of five (5) members appointed by individual Councilmembers and four (4) members appointed by the Council as a whole (at-large).&nbsp;The Transgender Advisory Board addresses matters relating to advocacy on behalf of transgender rights such as education, community awareness, and empowerment and makes recommendations to Council relative to the adoption of programs, policies or ordinances of benefit to the constituency. All Board meetings are open to the public.&nbsp;</p><p><em>The current agenda for the Transgender Advisory Board meeting can be&nbsp;</em><a href="http://www.weho.org/city-government/boards-commissions/advisory-boards/transgender-advisory-board#!/" target="_blank">found here.</a></p>
LOCATION:City Hall Community Meeting Room\, 1st Floor\, 8300 Santa Monica Blvd West Hollywood\, California 90069
CLASS:PUBLIC
END:VEVENT
END:VCALENDAR
