BEGIN:VCALENDAR
VERSION:2.0
PRODID:City of West Hollywood Calendar Creator
METHOD:PUBLISH
BEGIN:VEVENT
DTSTAMP:20260128T085617
DTSTART:20260422T140000
DTEND:20260422T160000
SUMMARY:Older Adults Advisory Board Meeting
DESCRIPTION:<p>This body meets on the fourth Wednesday of the month; however, no meeting is scheduled in November and December</p><p>The Older Adults Advisory Board addresses matters relating to the planning, development and coordination of services for older residents and makes recommendations to Council relative to the adoption of programs, policies or ordinances of benefit to those constituencies.&nbsp; The Board acts as an advocate and provides linkage between residents, organizations, City Council, City officials, and the general community.</p><p>For more information, please contact Maribel Ulloa at MUlloa@weho.org&nbsp;or Becca Lubin at&nbsp;<a href="mailto:&#82;&#76;&#117;&#98;&#105;&#110;&#64;&#119;&#101;&#104;&#111;&#46;&#111;&#114;&#103;&#63;&#115;&#117;&#98;&#106;&#101;&#99;&#116;&#61;&#79;&#108;&#100;&#101;&#114;&#37;20&#65;&#100;&#117;&#108;&#116;&#115;&#37;20&#65;&#100;&#118;&#105;&#115;&#111;&#114;&#121;&#37;20&#66;&#111;&#97;&#114;&#100;&#37;20&#77;&#101;&#101;&#116;&#105;&#110;&#103;">RLubin@weho.org</a>. You can also reach out by calling the Human Services Division&nbsp;at&nbsp;<a href="tel: (323) 848-6510" target="_blank">(323) 848-6510</a>.<br><br>To view current agenda packet as well as past agendas and minutes, click<a href="https://www.weho.org/city-government/boards-commissions/advisory-boards/senior-advisory-board" target="_blank">&nbsp;<a href="https://www.weho.org/home/showpublisheddocument/61541/639046788445330000" target="_blank" rel="noopener">Current Agenda Packet</a></a></p>
X-ALT-DESC;FMTTYPE=text/html:<p>This body meets on the fourth Wednesday of the month; however, no meeting is scheduled in November and December</p><p>The Older Adults Advisory Board addresses matters relating to the planning, development and coordination of services for older residents and makes recommendations to Council relative to the adoption of programs, policies or ordinances of benefit to those constituencies.&nbsp; The Board acts as an advocate and provides linkage between residents, organizations, City Council, City officials, and the general community.</p><p>For more information, please contact Maribel Ulloa at MUlloa@weho.org&nbsp;or Becca Lubin at&nbsp;<a href="mailto:&#82;&#76;&#117;&#98;&#105;&#110;&#64;&#119;&#101;&#104;&#111;&#46;&#111;&#114;&#103;&#63;&#115;&#117;&#98;&#106;&#101;&#99;&#116;&#61;&#79;&#108;&#100;&#101;&#114;&#37;20&#65;&#100;&#117;&#108;&#116;&#115;&#37;20&#65;&#100;&#118;&#105;&#115;&#111;&#114;&#121;&#37;20&#66;&#111;&#97;&#114;&#100;&#37;20&#77;&#101;&#101;&#116;&#105;&#110;&#103;">RLubin@weho.org</a>. You can also reach out by calling the Human Services Division&nbsp;at&nbsp;<a href="tel: (323) 848-6510" target="_blank">(323) 848-6510</a>.<br><br>To view current agenda packet as well as past agendas and minutes, click<a href="https://www.weho.org/city-government/boards-commissions/advisory-boards/senior-advisory-board" target="_blank">&nbsp;<a href="https://www.weho.org/home/showpublisheddocument/61541/639046788445330000" target="_blank" rel="noopener">Current Agenda Packet</a></a></p>
LOCATION:City Hall Community Meeting Room\, 1st Floor\, 8300 Santa Monica Boulevard West Hollywood\, California 90069
CLASS:PUBLIC
END:VEVENT
END:VCALENDAR
