BEGIN:VCALENDAR
VERSION:2.0
PRODID:City of West Hollywood Calendar Creator
METHOD:PUBLISH
BEGIN:VEVENT
DTSTAMP:20260416T172151
DTSTART:20260423T170000
DTEND:20260423T184500
SUMMARY:Arts and Cultural Affairs Commission Meeting
DESCRIPTION:<p>The Arts &amp; Cultural Affairs Commission identifies the arts needs of the community and is responsible for analyzing methods of fulfilling these needs and interests and presenting alternative recommendations for actions.&nbsp; The Commission promotes activities to broaden the opportunities for citizen participation in the arts.</p><p>Contact:&nbsp;For more information, please contact Dennice Oceguera,&nbsp;<a href="mailto:doceguera@weho.org?subject=doceguera@weho.org" id="doceguera@weho.org" title="doceguera@weho.org">doceguera@weho.org</a>&nbsp;or call (323) 848-6351.</p><p><em>To view the current agenda packet, <a href="https://bit.ly/4cwSHdC" target="_blank" rel="noopener">&nbsp;</a><a href="https://bit.ly/4cwSHdC" target="_blank" rel="noopener">click here.</a></em></p><p><i>To view the current agenda packet as well as past agendas and minutes,&nbsp;<a href="https://www.weho.org/city-government/boards-commissions/commissions/arts-and-cultural-affairs-commission/-fsiteid-1#!/" target="_blank">click here.</a></i></p>
X-ALT-DESC;FMTTYPE=text/html:<p>The Arts &amp; Cultural Affairs Commission identifies the arts needs of the community and is responsible for analyzing methods of fulfilling these needs and interests and presenting alternative recommendations for actions.&nbsp; The Commission promotes activities to broaden the opportunities for citizen participation in the arts.</p><p>Contact:&nbsp;For more information, please contact Dennice Oceguera,&nbsp;<a href="mailto:doceguera@weho.org?subject=doceguera@weho.org" id="doceguera@weho.org" title="doceguera@weho.org">doceguera@weho.org</a>&nbsp;or call (323) 848-6351.</p><p><em>To view the current agenda packet, <a href="https://bit.ly/4cwSHdC" target="_blank" rel="noopener">&nbsp;</a><a href="https://bit.ly/4cwSHdC" target="_blank" rel="noopener">click here.</a></em></p><p><i>To view the current agenda packet as well as past agendas and minutes,&nbsp;<a href="https://www.weho.org/city-government/boards-commissions/commissions/arts-and-cultural-affairs-commission/-fsiteid-1#!/" target="_blank">click here.</a></i></p>
LOCATION:City Hall Community Meeting Room\, 1st Floor\, 8300 Santa Monica Boulevard West Hollywood\, California 90069
CLASS:PUBLIC
END:VEVENT
END:VCALENDAR
