BEGIN:VCALENDAR
VERSION:2.0
PRODID:City of West Hollywood Calendar Creator
METHOD:PUBLISH
BEGIN:VEVENT
DTSTAMP:20260402T171707
DTSTART:20260409T153000
DTEND:20260409T170000
SUMMARY:Art on the Outside Subcommittee Meeting
DESCRIPTION:<p>The Art on the Outside Subcommittee of the Arts and Cultural Affairs Commission brings temporary art installations and exhibits out into the public realm to enhance the City’s lively pedestrian-friendly culture. The Subcommittee determines the methodology and process by which to attract artists and art consultants and reviews requests for proposals as well as interviewing arts consultants and artists as appropriate.&nbsp;&nbsp;</p><p>Contact:&nbsp;For more information, please contact Dennice Oceguera,&nbsp;<a href="mailto:doceguera@weho.org?subject=doceguera@weho.org" id="doceguera@weho.org" title="doceguera@weho.org">doceguera@weho.org</a>&nbsp;or call (323) 848-6351.</p><p>&nbsp;</p><p><em>To view the current agenda packet,&nbsp;<span style="text-decoration: underline;"><a href="https://www.weho.org/home/showdocument?id=64956&amp;t=639107466656872602" target="_blank" rel="noopener">Click here</a></span></em></p><p><em><em>T</em>o view more information on the Commission, it's subcommittees, as well as past agendas and minutes,&nbsp;</em><em><a href="https://www.weho.org/city-government/boards-commissions/commissions/arts-and-cultural-affairs-commission/art-on-the-outside#!/" target="_blank" rel="noopener">click here.</a><a href="https://www.weho.org/city-government/boards-commissions/commissions/arts-and-cultural-affairs-commission/art-on-the-outside#!/" target="_blank" rel="noopener">&nbsp;</a></em></p>
X-ALT-DESC;FMTTYPE=text/html:<p>The Art on the Outside Subcommittee of the Arts and Cultural Affairs Commission brings temporary art installations and exhibits out into the public realm to enhance the City’s lively pedestrian-friendly culture. The Subcommittee determines the methodology and process by which to attract artists and art consultants and reviews requests for proposals as well as interviewing arts consultants and artists as appropriate.&nbsp;&nbsp;</p><p>Contact:&nbsp;For more information, please contact Dennice Oceguera,&nbsp;<a href="mailto:doceguera@weho.org?subject=doceguera@weho.org" id="doceguera@weho.org" title="doceguera@weho.org">doceguera@weho.org</a>&nbsp;or call (323) 848-6351.</p><p>&nbsp;</p><p><em>To view the current agenda packet,&nbsp;<span style="text-decoration: underline;"><a href="https://www.weho.org/home/showdocument?id=64956&amp;t=639107466656872602" target="_blank" rel="noopener">Click here</a></span></em></p><p><em><em>T</em>o view more information on the Commission, it's subcommittees, as well as past agendas and minutes,&nbsp;</em><em><a href="https://www.weho.org/city-government/boards-commissions/commissions/arts-and-cultural-affairs-commission/art-on-the-outside#!/" target="_blank" rel="noopener">click here.</a><a href="https://www.weho.org/city-government/boards-commissions/commissions/arts-and-cultural-affairs-commission/art-on-the-outside#!/" target="_blank" rel="noopener">&nbsp;</a></em></p>
LOCATION:City Hall Community Meeting Room\, 1st Floor\, 8300 Santa Monica Boulevard West Hollywood\, California 90069
CLASS:PUBLIC
END:VEVENT
END:VCALENDAR
