BEGIN:VCALENDAR
VERSION:2.0
PRODID:City of West Hollywood Calendar Creator
METHOD:PUBLISH
BEGIN:VEVENT
DTSTAMP:20251201T183835
DTSTART:20260611T170000
DTEND:20260611T184500
SUMMARY:Performing Arts and Cultural Affairs Subcommittee Meeting
DESCRIPTION:<p>The Performing Arts and Cultural Affairs Subcommittee of the Arts and Cultural Affairs Commission furthers the City’s arts and cultural goals by serving as the initial liaison between City departments, commissions &amp; boards, and the Commission on projects and city sponsored events related to performing arts and cultural affairs projects. The Subcommittee recommends the Commission’s level of involvement and responsibility relative to each event and also develops, evaluates and recommends policy and strategies for review by the Arts and Cultural Affairs Commission.</p><p>Contact:&nbsp;For more information, please contact Dennice Oceguera,&nbsp;<a href="mailto:doceguera@weho.org?subject=doceguera@weho.org" id="doceguera@weho.org" title="doceguera@weho.org">doceguera@weho.org</a>&nbsp;or call (323) 848-6351.</p><p><em>&nbsp;</em></p><p><em>To view the current agenda packet, Click here</em></p><p><em>To view more information on the Commission, as well as past agendas and minutes,&nbsp;</em><em><a href="https://www.weho.org/city-government/boards-commissions/commissions/arts-and-cultural-affairs-commission/performing-arts-and-cultural-affairs#!/" target="_blank" rel="noopener">click here</a><a href="https://www.weho.org/city-government/boards-commissions/commissions/arts-and-cultural-affairs-commission/performing-arts-and-cultural-affairs#!/" target="_blank" rel="noopener">&nbsp;</a></em></p><p>&nbsp;</p>
X-ALT-DESC;FMTTYPE=text/html:<p>The Performing Arts and Cultural Affairs Subcommittee of the Arts and Cultural Affairs Commission furthers the City’s arts and cultural goals by serving as the initial liaison between City departments, commissions &amp; boards, and the Commission on projects and city sponsored events related to performing arts and cultural affairs projects. The Subcommittee recommends the Commission’s level of involvement and responsibility relative to each event and also develops, evaluates and recommends policy and strategies for review by the Arts and Cultural Affairs Commission.</p><p>Contact:&nbsp;For more information, please contact Dennice Oceguera,&nbsp;<a href="mailto:doceguera@weho.org?subject=doceguera@weho.org" id="doceguera@weho.org" title="doceguera@weho.org">doceguera@weho.org</a>&nbsp;or call (323) 848-6351.</p><p><em>&nbsp;</em></p><p><em>To view the current agenda packet, Click here</em></p><p><em>To view more information on the Commission, as well as past agendas and minutes,&nbsp;</em><em><a href="https://www.weho.org/city-government/boards-commissions/commissions/arts-and-cultural-affairs-commission/performing-arts-and-cultural-affairs#!/" target="_blank" rel="noopener">click here</a><a href="https://www.weho.org/city-government/boards-commissions/commissions/arts-and-cultural-affairs-commission/performing-arts-and-cultural-affairs#!/" target="_blank" rel="noopener">&nbsp;</a></em></p><p>&nbsp;</p>
LOCATION:City Hall Community Meeting Room\, 1st Floor\, 8300 Santa Monica Boulevard West Hollywood\, California 90069
CLASS:PUBLIC
END:VEVENT
END:VCALENDAR
