BEGIN:VCALENDAR
VERSION:2.0
PRODID:City of West Hollywood Calendar Creator
METHOD:PUBLISH
BEGIN:VEVENT
DTSTAMP:20260326T160926
DTSTART:20260402T170000
DTEND:20260402T184500
SUMMARY:(Cancelled) Urban Art Subcommittee Meeting
DESCRIPTION:<p>The Urban Art Subcommittee of the Arts and Cultural Affairs Commission oversees the implementation of the City’s Urban Art Program pursuant to Chapter 19.38 of the City’s Municipal Code that requires developers of certain projects to contribute one percent of the development valuation to public art.</p><p>Contact:&nbsp;For more information, please contact Dennice Oceguera,&nbsp;<a href="mailto:doceguera@weho.org?subject=doceguera@weho.org" id="doceguera@weho.org" title="doceguera@weho.org">doceguera@weho.org</a>&nbsp;or call (323) 848-6351.</p><p>&nbsp;</p><p><em>To view the current agenda packet, Click Here</em></p><p><em>To view more information on the Commission, its Subcommittees, as well as past agendas and minutes,&nbsp;</em><em><a href="https://www.weho.org/city-government/boards-commissions/commissions/arts-and-cultural-affairs-commission/urban-arts#!/" target="_blank" rel="noopener">click here.</a><a href="https://www.weho.org/city-government/boards-commissions/commissions/arts-and-cultural-affairs-commission/urban-arts#!/" target="_blank" rel="noopener">&nbsp;</a></em></p>
X-ALT-DESC;FMTTYPE=text/html:<p>The Urban Art Subcommittee of the Arts and Cultural Affairs Commission oversees the implementation of the City’s Urban Art Program pursuant to Chapter 19.38 of the City’s Municipal Code that requires developers of certain projects to contribute one percent of the development valuation to public art.</p><p>Contact:&nbsp;For more information, please contact Dennice Oceguera,&nbsp;<a href="mailto:doceguera@weho.org?subject=doceguera@weho.org" id="doceguera@weho.org" title="doceguera@weho.org">doceguera@weho.org</a>&nbsp;or call (323) 848-6351.</p><p>&nbsp;</p><p><em>To view the current agenda packet, Click Here</em></p><p><em>To view more information on the Commission, its Subcommittees, as well as past agendas and minutes,&nbsp;</em><em><a href="https://www.weho.org/city-government/boards-commissions/commissions/arts-and-cultural-affairs-commission/urban-arts#!/" target="_blank" rel="noopener">click here.</a><a href="https://www.weho.org/city-government/boards-commissions/commissions/arts-and-cultural-affairs-commission/urban-arts#!/" target="_blank" rel="noopener">&nbsp;</a></em></p>
LOCATION:City Hall Community Meeting Room\, 1st Floor\, 8300 Santa Monica Boulevard West Hollywood\, California 90069
CLASS:PUBLIC
END:VEVENT
END:VCALENDAR
