BEGIN:VCALENDAR
VERSION:2.0
PRODID:City of West Hollywood Calendar Creator
METHOD:PUBLISH
BEGIN:VEVENT
DTSTAMP:20251119T102853
DTSTART:20260609T180000
DTEND:20260619T210000
SUMMARY:Business License Commission Meeting
DESCRIPTION:<p>The Commission meets to consider modification and/or revocation of business licenses as prescribed in Title 5, Article 1 of the West Hollywood Municipal Code, consider and recommend to the City Council adoption of amendments to the Business License Ordinance and other ordinances and resolutions pertaining to business regulation, and other duties as directed by the City Council.&nbsp;<i>To view the current agenda packet as well as past agendas and minutes,&nbsp;<a href="https://www.weho.org/city-government/boards-commissions/commissions/business-license-commission">click here.</a></i></p><p>This meeting may be viewed on various platforms. Please visit&nbsp;<a href="https://gcc02.safelinks.protection.outlook.com/?url=http%3A%2F%2Fwww.weho.org%2Fwehotv&amp;data=05%7C01%7CFKingi%40weho.org%7Ce4c0f168ddfe4bc8cb7708db299b3152%7C0432d4aa7c0a41beaa40f696e053e546%7C0%7C0%7C638149518758399959%7CUnknown%7CTWFpbGZsb3d8eyJWIjoiMC4wLjAwMDAiLCJQIjoiV2luMzIiLCJBTiI6Ik1haWwiLCJXVCI6Mn0%3D%7C3000%7C%7C%7C&amp;sdata=IVqzED4LshDF%2B4CVSRSdz6IisFkanf7kFbHcfVCruMw%3D&amp;reserved=0">www.weho.org/wehotv</a>&nbsp;for all of the viewing options.</p>
X-ALT-DESC;FMTTYPE=text/html:<p>The Commission meets to consider modification and/or revocation of business licenses as prescribed in Title 5, Article 1 of the West Hollywood Municipal Code, consider and recommend to the City Council adoption of amendments to the Business License Ordinance and other ordinances and resolutions pertaining to business regulation, and other duties as directed by the City Council.&nbsp;<i>To view the current agenda packet as well as past agendas and minutes,&nbsp;<a href="https://www.weho.org/city-government/boards-commissions/commissions/business-license-commission">click here.</a></i></p><p>This meeting may be viewed on various platforms. Please visit&nbsp;<a href="https://gcc02.safelinks.protection.outlook.com/?url=http%3A%2F%2Fwww.weho.org%2Fwehotv&amp;data=05%7C01%7CFKingi%40weho.org%7Ce4c0f168ddfe4bc8cb7708db299b3152%7C0432d4aa7c0a41beaa40f696e053e546%7C0%7C0%7C638149518758399959%7CUnknown%7CTWFpbGZsb3d8eyJWIjoiMC4wLjAwMDAiLCJQIjoiV2luMzIiLCJBTiI6Ik1haWwiLCJXVCI6Mn0%3D%7C3000%7C%7C%7C&amp;sdata=IVqzED4LshDF%2B4CVSRSdz6IisFkanf7kFbHcfVCruMw%3D&amp;reserved=0">www.weho.org/wehotv</a>&nbsp;for all of the viewing options.</p>
LOCATION:West Hollywood Park Public Meeting Room - Council Chambers\, 625 N. San Vicente Blvd. West Hollywood\, California 90069
CLASS:PUBLIC
END:VEVENT
END:VCALENDAR
