BEGIN:VCALENDAR
VERSION:2.0
PRODID:City of West Hollywood Calendar Creator
METHOD:PUBLISH
BEGIN:VEVENT
DTSTAMP:20251114T155439
DTSTART:20260518T180000
DTEND:20260518T235900
SUMMARY:City Council Meeting
DESCRIPTION:<p>To view the current agenda or public hearing items, please visit:&nbsp;&nbsp;<a href="https://gcc02.safelinks.protection.outlook.com/?url=https%3A%2F%2Fwww.weho.org%2Fcity-government%2Fcity-council%2Fcouncil-agendas&amp;data=05%7C01%7CMCrowder%40weho.org%7C4a099f4b25554f25623308dae537bbf6%7C0432d4aa7c0a41beaa40f696e053e546%7C0%7C0%7C638074324798412361%7CUnknown%7CTWFpbGZsb3d8eyJWIjoiMC4wLjAwMDAiLCJQIjoiV2luMzIiLCJBTiI6Ik1haWwiLCJXVCI6Mn0%3D%7C3000%7C%7C%7C&amp;sdata=cpiuJy4475yGFvoguuXHe%2Fe1DQJar7KDhmamx5aoCKU%3D&amp;reserved=0">Council Agendas</a></p><p><a href="https://www.weho.org/home/showdocument?id=58007" target="_blank">How to Participate in West Hollywood City Council Meetings</a>&nbsp; (If you are attending in-person, you do not need to email publiccomment@weho.org.&nbsp; You will complete a Speaker Slip in Council Chambers)</p><p>*Please visit&nbsp;<a href="https://gcc02.safelinks.protection.outlook.com/?url=http%3A%2F%2Fwww.weho.org%2Fwehotv&amp;data=05%7C01%7CMCrowder%40weho.org%7C4a099f4b25554f25623308dae537bbf6%7C0432d4aa7c0a41beaa40f696e053e546%7C0%7C0%7C638074324798412361%7CUnknown%7CTWFpbGZsb3d8eyJWIjoiMC4wLjAwMDAiLCJQIjoiV2luMzIiLCJBTiI6Ik1haWwiLCJXVCI6Mn0%3D%7C3000%7C%7C%7C&amp;sdata=28q1mAQ%2FU09wGBTwRki0cZYSoEVY0yZu8qsFuRWUZEs%3D&amp;reserved=0">www.weho.org/wehotv</a>&nbsp;for your viewing options.</p><p><i>**Council Chambers opens at 5:15 p.m. when there is a Closed Session scheduled; otherwise, Council Chambers opens at 5:30 p.m.</i></p>
X-ALT-DESC;FMTTYPE=text/html:<p>To view the current agenda or public hearing items, please visit:&nbsp;&nbsp;<a href="https://gcc02.safelinks.protection.outlook.com/?url=https%3A%2F%2Fwww.weho.org%2Fcity-government%2Fcity-council%2Fcouncil-agendas&amp;data=05%7C01%7CMCrowder%40weho.org%7C4a099f4b25554f25623308dae537bbf6%7C0432d4aa7c0a41beaa40f696e053e546%7C0%7C0%7C638074324798412361%7CUnknown%7CTWFpbGZsb3d8eyJWIjoiMC4wLjAwMDAiLCJQIjoiV2luMzIiLCJBTiI6Ik1haWwiLCJXVCI6Mn0%3D%7C3000%7C%7C%7C&amp;sdata=cpiuJy4475yGFvoguuXHe%2Fe1DQJar7KDhmamx5aoCKU%3D&amp;reserved=0">Council Agendas</a></p><p><a href="https://www.weho.org/home/showdocument?id=58007" target="_blank">How to Participate in West Hollywood City Council Meetings</a>&nbsp; (If you are attending in-person, you do not need to email publiccomment@weho.org.&nbsp; You will complete a Speaker Slip in Council Chambers)</p><p>*Please visit&nbsp;<a href="https://gcc02.safelinks.protection.outlook.com/?url=http%3A%2F%2Fwww.weho.org%2Fwehotv&amp;data=05%7C01%7CMCrowder%40weho.org%7C4a099f4b25554f25623308dae537bbf6%7C0432d4aa7c0a41beaa40f696e053e546%7C0%7C0%7C638074324798412361%7CUnknown%7CTWFpbGZsb3d8eyJWIjoiMC4wLjAwMDAiLCJQIjoiV2luMzIiLCJBTiI6Ik1haWwiLCJXVCI6Mn0%3D%7C3000%7C%7C%7C&amp;sdata=28q1mAQ%2FU09wGBTwRki0cZYSoEVY0yZu8qsFuRWUZEs%3D&amp;reserved=0">www.weho.org/wehotv</a>&nbsp;for your viewing options.</p><p><i>**Council Chambers opens at 5:15 p.m. when there is a Closed Session scheduled; otherwise, Council Chambers opens at 5:30 p.m.</i></p>
LOCATION:West Hollywood City Council Chambers\, 625 N San Vicente Blvd West Hollywood\, California 90069
CLASS:PUBLIC
END:VEVENT
END:VCALENDAR
