BEGIN:VCALENDAR
VERSION:2.0
PRODID:City of West Hollywood Calendar Creator
METHOD:PUBLISH
BEGIN:VEVENT
DTSTAMP:20260408T100509
DTSTART:20260416T173000
DTEND:20260416T183000
SUMMARY:(Cancelled) Long Range Planning Projects Subcommittee Meeting
DESCRIPTION:<p></p><p><hr>Meetings of the Planning Commission Long Range Planning Projects Subcommittee are held on the third Thursday of the month at 5:30 p.m. as needed and are open to the general public.&nbsp;&nbsp;&nbsp;&nbsp;&nbsp;&nbsp;&nbsp;&nbsp;&nbsp;&nbsp;&nbsp;</p><p><a href="https://www.weho.org/city-government/boards-commissions/commissions/planning-commission/long-range-planning-projects-subcommittee">View Agendas and the Current Agenda Packet</a></p><p>&nbsp;</p><p><b><span style="background-color: rgb(198, 217, 240);">IF YOU'D LIKE PROVIDE WRITTEN COMMENT:</span></b></p><p>Members of the public are encouraged to comment on matters before the Long Range Planning Projects Subcommittee. <br>You may Email your written comments to&nbsp;<a href="mailto:&#112;&#99;&#115;&#117;&#98;&#112;&#117;&#98;&#108;&#105;&#99;&#99;&#111;&#109;&#109;&#101;&#110;&#116;&#115;&#64;&#119;&#101;&#104;&#111;&#46;&#111;&#114;&#103;">pcsubpubliccomments@weho.org</a>&nbsp;<strong>no later than 12:00 p.m. </strong>on the Long Range Planning Projects Subcommittee meeting day.</p><p>Your comments and information will become part of the official public record.&nbsp;<br><strong><u>If you do not want your personal information included</u></strong><strong>&nbsp;in the official record, please&nbsp;<u>do not include your address and/or phone number.</u></strong></p><p><b><i>Note:</i></b><i>&nbsp;E-Comments received by 12:00 p.m. will be forwarded to the Long Range Planning Projects subcommittee members and posted on the City’s website as part of the official meeting record.</i></p><p>&nbsp;</p><p><strong>CONTACT:</strong><br>David Gillig, Planning Commission Secretary<br>323-848-6331&nbsp;&nbsp;&nbsp;&nbsp;&nbsp;<a href="mailto:&#100;&#103;&#105;&#108;&#108;&#105;&#103;&#64;&#119;&#101;&#104;&#111;&#46;&#111;&#114;&#103;">dgillig@weho.org</a></p>
X-ALT-DESC;FMTTYPE=text/html:<p></p><p><hr>Meetings of the Planning Commission Long Range Planning Projects Subcommittee are held on the third Thursday of the month at 5:30 p.m. as needed and are open to the general public.&nbsp;&nbsp;&nbsp;&nbsp;&nbsp;&nbsp;&nbsp;&nbsp;&nbsp;&nbsp;&nbsp;</p><p><a href="https://www.weho.org/city-government/boards-commissions/commissions/planning-commission/long-range-planning-projects-subcommittee">View Agendas and the Current Agenda Packet</a></p><p>&nbsp;</p><p><b><span style="background-color: rgb(198, 217, 240);">IF YOU'D LIKE PROVIDE WRITTEN COMMENT:</span></b></p><p>Members of the public are encouraged to comment on matters before the Long Range Planning Projects Subcommittee. <br>You may Email your written comments to&nbsp;<a href="mailto:&#112;&#99;&#115;&#117;&#98;&#112;&#117;&#98;&#108;&#105;&#99;&#99;&#111;&#109;&#109;&#101;&#110;&#116;&#115;&#64;&#119;&#101;&#104;&#111;&#46;&#111;&#114;&#103;">pcsubpubliccomments@weho.org</a>&nbsp;<strong>no later than 12:00 p.m. </strong>on the Long Range Planning Projects Subcommittee meeting day.</p><p>Your comments and information will become part of the official public record.&nbsp;<br><strong><u>If you do not want your personal information included</u></strong><strong>&nbsp;in the official record, please&nbsp;<u>do not include your address and/or phone number.</u></strong></p><p><b><i>Note:</i></b><i>&nbsp;E-Comments received by 12:00 p.m. will be forwarded to the Long Range Planning Projects subcommittee members and posted on the City’s website as part of the official meeting record.</i></p><p>&nbsp;</p><p><strong>CONTACT:</strong><br>David Gillig, Planning Commission Secretary<br>323-848-6331&nbsp;&nbsp;&nbsp;&nbsp;&nbsp;<a href="mailto:&#100;&#103;&#105;&#108;&#108;&#105;&#103;&#64;&#119;&#101;&#104;&#111;&#46;&#111;&#114;&#103;">dgillig@weho.org</a></p>
LOCATION:West Hollywood Park Public Meeting Room - Closed Session Room\, 625 N. San Vicente Boulevard West Hollywood\, California 90069
CLASS:PUBLIC
END:VEVENT
END:VCALENDAR
