BEGIN:VCALENDAR
VERSION:2.0
PRODID:City of West Hollywood Calendar Creator
METHOD:PUBLISH
BEGIN:VEVENT
DTSTAMP:20250908T180841
DTSTART:20260513T140000
DTEND:20260513T153000
SUMMARY:Business Task Force Meeting
DESCRIPTION:<p>The Business Task Force consists of nine (9) individuals from the community who represent business owners in various industries. The Task Force is an opportunity for community members and experts in business and economic diversification and/or development to engage in conversations regarding business recovery and economic development.</p><p>&nbsp;</p><p>To view the current agenda or for more information visit <a href="https://www.weho.org/city-government/boards-commissions/committees-and-task-forces/business-task-force">go.weho.org/businesstaskforce</a></p>
X-ALT-DESC;FMTTYPE=text/html:<p>The Business Task Force consists of nine (9) individuals from the community who represent business owners in various industries. The Task Force is an opportunity for community members and experts in business and economic diversification and/or development to engage in conversations regarding business recovery and economic development.</p><p>&nbsp;</p><p>To view the current agenda or for more information visit <a href="https://www.weho.org/city-government/boards-commissions/committees-and-task-forces/business-task-force">go.weho.org/businesstaskforce</a></p>
LOCATION:Virtual (Zoom)\, 
CLASS:PUBLIC
END:VEVENT
END:VCALENDAR
